BEGIN:VCALENDAR
VERSION:2.0
PRODID:-//Characters 2 Life - ECPv6.2.8.1//NONSGML v1.0//EN
CALSCALE:GREGORIAN
METHOD:PUBLISH
X-WR-CALNAME:Characters 2 Life
X-ORIGINAL-URL:http://characters2life.com
X-WR-CALDESC:Events for Characters 2 Life
REFRESH-INTERVAL;VALUE=DURATION:PT1H
X-Robots-Tag:noindex
X-PUBLISHED-TTL:PT1H
BEGIN:VTIMEZONE
TZID:UTC
BEGIN:STANDARD
TZOFFSETFROM:+0000
TZOFFSETTO:+0000
TZNAME:UTC
DTSTART:20210101T000000
END:STANDARD
END:VTIMEZONE
BEGIN:VEVENT
DTSTART;TZID=UTC:20210704T170000
DTEND;TZID=UTC:20210704T210000
DTSTAMP:20260420T012515
CREATED:20210521T174208Z
LAST-MODIFIED:20210521T182817Z
UID:1426-1625418000-1625432400@characters2life.com
SUMMARY:Rockford Fireworks @ Davis Park
DESCRIPTION:Join us in the paid section!
URL:http://characters2life.com/event/rockford-fireworks-davis-park/
LOCATION:Davis Park\, 320 S Wyman St\, Rockford\, IL\, 61101\, United States
ATTACH;FMTTYPE=image/jpeg:http://characters2life.com/wp-content/uploads/2021/02/DSC8123-scaled.jpg
ORGANIZER;CN="Characters 2 Life":MAILTO:booking@buskerentertainment.com
END:VEVENT
BEGIN:VEVENT
DTSTART;TZID=UTC:20210703T160000
DTEND;TZID=UTC:20210703T190000
DTSTAMP:20260420T012515
CREATED:20210521T170919Z
LAST-MODIFIED:20210521T170919Z
UID:1423-1625328000-1625338800@characters2life.com
SUMMARY:Amboy Independence Day Celebration
DESCRIPTION:
URL:http://characters2life.com/event/amboy-independence-day-celebration/
LOCATION:25 N E Ave\, Amboy\, IL 61310\, 25 N E Ave\, Amboy\, IL\, 61310\, United States
ATTACH;FMTTYPE=image/jpeg:http://characters2life.com/wp-content/uploads/2021/02/DSC8140p-scaled.jpg
ORGANIZER;CN="Characters 2 Life":MAILTO:booking@buskerentertainment.com
END:VEVENT
BEGIN:VEVENT
DTSTART;TZID=UTC:20210521T130000
DTEND;TZID=UTC:20210521T143000
DTSTAMP:20260420T012515
CREATED:20210521T175308Z
LAST-MODIFIED:20210521T183130Z
UID:1429-1621602000-1621607400@characters2life.com
SUMMARY:Scottish Queen\, Princess & Balloon Twisting
DESCRIPTION:
URL:http://characters2life.com/event/scottish-queen-princess-balloon-twisting/
LOCATION:Louie’s Tap\, 5689 Elevator Rd\, Roscoe\, IL\, 61073\, United States
ATTACH;FMTTYPE=image/jpeg:http://characters2life.com/wp-content/uploads/2021/02/DSC8011-scaled.jpg
END:VEVENT
BEGIN:VEVENT
DTSTART;TZID=UTC:20210520T190000
DTEND;TZID=UTC:20210520T200000
DTSTAMP:20260420T012515
CREATED:20210314T001712Z
LAST-MODIFIED:20210314T001712Z
UID:1248-1621537200-1621540800@characters2life.com
SUMMARY:Trivia Night
DESCRIPTION:Gather the family for a test of knowledge! From the comfort of your own home\, rack your brain with this wholesome family entertainment for the WHOLE family! \nThis trivia night will include four (4) topics with ten (15) questions per topic. The winner of each round gets a prize! \nRegister Here\n\n\n        \n                                                \n                        \n                        \n                \n                \n                                    \n                        \n                First Name\n            \n                    \n                \n            \n        \n                \n                        \n                Last Name\n            \n                    \n                \n            \n        \n                \n                        \n                Team Name\n            \n                    \n                \n            \n        \n                \n                        \n                Email Address\n            \n                    \n                \n            \n        \n                \n                        \n                Join The Fun!\n            \n                                    \n                                                                    \n                            \n                            \n                                Trivia Night (per family)\n                                 – \n                                $10\n                                \n                            \n                        \n                                    \n                    \n            \n                        \n                Ticket Quantity\n            \n                    \n                \n            \n        \n                        \n                \n                \n                \n                    \n                        Register and Pay \n                        \n                            Please Wait…
URL:http://characters2life.com/event/trivia-night/
LOCATION:WI
ATTACH;FMTTYPE=image/jpeg:http://characters2life.com/wp-content/uploads/2020/12/Trivia-Night.jpg
END:VEVENT
BEGIN:VEVENT
DTSTART;TZID=UTC:20210327T140000
DTEND;TZID=UTC:20210327T170000
DTSTAMP:20260420T012515
CREATED:20210314T000410Z
LAST-MODIFIED:20210314T000636Z
UID:1243-1616853600-1616864400@characters2life.com
SUMMARY:Bunny Bash
DESCRIPTION:March 27th\n2-5pm\n$10 per child/$12 at the door\n\n\nJoin the Easter Bunny\, Cinderella\, Snow White and Chris That Twists for an Easter Celebration!\n\n\nLive performances \nPrincess Meet & Greet \nTake UNLIMITED photos with the Easter Bunny\, Cinderella or Snow White in front of the Queen of Throne‘s special Bunny Backdrop! \nRegister Below! \n        \n                                                \n                        \n                        \n                \n                \n                                    \n                        \n                Name\n            \n                    \n                \n            \n        \n                \n                        \n                Email Address\n            \n                    \n                \n            \n        \n                \n                            \n                    \n                        Bunny Bash Tickets: $10\n                    \n                \n                    \n            \n                        \n                Ticket Quantity\n            \n                    \n                \n            \n        \n                \n                        \n                Names of child(ren)\n            \n                    \n                \n            \n        \n                        \n                \n                \n                \n                    \n                        Register and Pay \n                        \n                            Please Wait…
URL:http://characters2life.com/event/bunny-bash/
LOCATION:Queen of Thrones\, 204 N. Church St.\, Rockford\, IL\, 61101\, United States
ATTACH;FMTTYPE=image/jpeg:http://characters2life.com/wp-content/uploads/2021/03/Bunny-Bash.jpg
ORGANIZER;CN="Characters 2 Life":MAILTO:booking@buskerentertainment.com
END:VEVENT
END:VCALENDAR