BEGIN:VCALENDAR
VERSION:2.0
PRODID:-//Characters 2 Life - ECPv6.2.8.1//NONSGML v1.0//EN
CALSCALE:GREGORIAN
METHOD:PUBLISH
X-WR-CALNAME:Characters 2 Life
X-ORIGINAL-URL:http://characters2life.com
X-WR-CALDESC:Events for Characters 2 Life
REFRESH-INTERVAL;VALUE=DURATION:PT1H
X-Robots-Tag:noindex
X-PUBLISHED-TTL:PT1H
BEGIN:VTIMEZONE
TZID:UTC
BEGIN:STANDARD
TZOFFSETFROM:+0000
TZOFFSETTO:+0000
TZNAME:UTC
DTSTART:20210101T000000
END:STANDARD
END:VTIMEZONE
BEGIN:VEVENT
DTSTART;TZID=UTC:20210704T170000
DTEND;TZID=UTC:20210704T210000
DTSTAMP:20260420T050231
CREATED:20210521T174208Z
LAST-MODIFIED:20210521T182817Z
UID:1426-1625418000-1625432400@characters2life.com
SUMMARY:Rockford Fireworks @ Davis Park
DESCRIPTION:Join us in the paid section!
URL:http://characters2life.com/event/rockford-fireworks-davis-park/
LOCATION:Davis Park\, 320 S Wyman St\, Rockford\, IL\, 61101\, United States
ATTACH;FMTTYPE=image/jpeg:http://characters2life.com/wp-content/uploads/2021/02/DSC8123-scaled.jpg
ORGANIZER;CN="Characters 2 Life":MAILTO:booking@buskerentertainment.com
END:VEVENT
END:VCALENDAR