BEGIN:VCALENDAR
VERSION:2.0
PRODID:-//Characters 2 Life - ECPv6.2.8.1//NONSGML v1.0//EN
CALSCALE:GREGORIAN
METHOD:PUBLISH
X-ORIGINAL-URL:http://characters2life.com
X-WR-CALDESC:Events for Characters 2 Life
REFRESH-INTERVAL;VALUE=DURATION:PT1H
X-Robots-Tag:noindex
X-PUBLISHED-TTL:PT1H
BEGIN:VTIMEZONE
TZID:UTC
BEGIN:STANDARD
TZOFFSETFROM:+0000
TZOFFSETTO:+0000
TZNAME:UTC
DTSTART:20210101T000000
END:STANDARD
END:VTIMEZONE
BEGIN:VEVENT
DTSTART;TZID=UTC:20210521T130000
DTEND;TZID=UTC:20210521T143000
DTSTAMP:20260425T001930
CREATED:20210521T175308Z
LAST-MODIFIED:20210521T183130Z
UID:1429-1621602000-1621607400@characters2life.com
SUMMARY:Scottish Queen\, Princess & Balloon Twisting
DESCRIPTION:
URL:http://characters2life.com/event/scottish-queen-princess-balloon-twisting/
LOCATION:Louie’s Tap\, 5689 Elevator Rd\, Roscoe\, IL\, 61073\, United States
ATTACH;FMTTYPE=image/jpeg:http://characters2life.com/wp-content/uploads/2021/02/DSC8011-scaled.jpg
END:VEVENT
END:VCALENDAR